BEGIN:VCALENDAR
VERSION:2.0
PRODID:-//Τμήμα Πολιτικής Επιστήμης - ECPv5.15.0//NONSGML v1.0//EN
CALSCALE:GREGORIAN
METHOD:PUBLISH
X-WR-CALNAME:Τμήμα Πολιτικής Επιστήμης
X-ORIGINAL-URL:https://polsci.duth.gr
X-WR-CALDESC:Τμήμα Πολιτικής Επιστήμης - Εκδηλώσεις
BEGIN:VTIMEZONE
TZID:Europe/Helsinki
BEGIN:DAYLIGHT
TZOFFSETFROM:+0200
TZOFFSETTO:+0300
TZNAME:EEST
DTSTART:20240331T010000
END:DAYLIGHT
BEGIN:STANDARD
TZOFFSETFROM:+0300
TZOFFSETTO:+0200
TZNAME:EET
DTSTART:20241027T010000
END:STANDARD
END:VTIMEZONE
BEGIN:VEVENT
DTSTART;VALUE=DATE:20240916
DTEND;VALUE=DATE:20240917
DTSTAMP:20260419T180711
CREATED:20240920T070103Z
LAST-MODIFIED:20240920T070103Z
UID:16599-1726444800-1726531199@polsci.duth.gr
SUMMARY:Συμμετοχή Φοιτητών/τριών του Τμήματος στο Συμπόσιο της ΕΕΔΔΣ
DESCRIPTION:Συμμετοχή και Παρουσίαση εργασιών των φοιτητών-τριών του Τμήματος Πολιτικής Επιστήμης Δ.Π.Θ. στο 2ο Συμπόσιο Λήμνου με θέμα: «Ευρώπη και οι προκλήσεις από την παγκόσμια περιδίνηση: Ποιες απαντήσεις: Άμυνα-Ασφάλεια-Θεσμοί-Πολιτικές»\, που διοργάνωσε η Ελληνική Εταιρεία Διεθνούς Δικαίου & Διεθνών Σχέσεων (13-16/9/2024)\n  \n  \nΜε επιτυχία ολοκλήρωσε τις εργασίες του το 2ο Συμπόσιο Λήμνου της Ελληνικής Εταιρείας Διεθνούς Δικαίου & Διεθνών Σχέσεων με θέμα: «Ευρώπη και οι προκλήσεις από την παγκόσμια περιδίνηση: Ποιες απαντήσεις: Άμυνα-Ασφάλεια-Θεσμοί-Πολιτικές». \nΣτο συνέδριο και στο αντίστοιχο σεμινάριο Διεθνούς Πολιτικής-Ευρωπαϊκής Ένωσης συμμετείχε ομάδα φοιτητών-τριών του Τμήματος Πολιτικής του Δημοκριτείου Πανεπιστημίου Θράκης\, μέσα από την παρουσίαση των εργασιών της\, υπό την επιστημονική επίβλεψη του Επ. Καθηγητή του Τμήματος Πολιτικής Επιστήμης κ. Ν. Παπαναστασόπουλου. \nΗ πρώτη ομάδα αποτελούμενη από τους Μεταξωτό Κ.\, Μιχαηλίδη Ιω.\, Μουρατίδη Αλ.\, είχε ως θέμα εργασίας: «Η Ευρωπαϊκή Ένωση ως στρατηγικός δρων στο νέο γεωπολιτικό περιβάλλον: προκλήσεις και διπλωματική τριγωνομετρία». \nΗ δεύτερη ομάδα αποτελούμενη από τις Τριβένη Π.\, Χριστοδούλου Ν.\, είχε ως θέμα εργασίας: «Η Ένωση μέσα από την θεωρία των Διεθνών Σχέσεων-Ευρωπαϊκής Ολοκλήρωσης και την συνθήκη ‘‘si vis pacem\, para bellum’’». \nΠαράλληλα οι φοιτητές-τριες του Τμήματος είχαν την ευκαιρία συναντήσεων και γόνιμης συζήτησης με εξέχουσες προσωπικότητες της ακαδημαϊκής κοινότητας\, όπως τον Πρόεδρο της Ελληνικής Εταιρείας Διεθνούς Δικαίου& Διεθνών Σχέσεων Ομότιμο Καθηγητή Διεθνών και Ευρωπαϊκών Θεσμών κ. Στ.Περράκη\, την Καθηγήτρια Διεθνούς Δικαίου στο ΕΚΠΑ και Γενική Διευθύντρια του ΕΛΙΑΜΕΠ κα. Μ. Γαβουνέλη\, τον Καθηγητή Διεθνούς Πολιτικής στο Πάντειο Πανεπιστήμιο\, πρώην Υπουργό Παιδείας και Γενικό Διευθυντή του Ιδρύματος «Κωνσταντίνος Καραμανλής» κ. Κ. Αρβανιτόπουλο\, τον Καθηγητή Διεθνούς Δικαίου στο Πάντειο Πανεπιστήμιο και πρώην Υφυπουργό Παιδείας κ. Άγγ. Συρίγο και τον Καθηγητή Διεθνούς Πολιτικής στο Πάντειο Πανεπιστήμιο κ. Δ. Τριανταφύλλου. \nΠαράλληλα με τις εργασίες του Συμποσίου οι φοιτητές-τριες του Τμήματος είχαν μια ουσιαστική συζήτηση με τον Σεβασμιώτατο Μητροπολίτη Λήμνου και Αγίου Ευστρατίου κ.κ. Ιερόθεο. \nΣτο παρακάτω αρχείο παρατίθενται οι εισηγήσεις των φοιτητών/τιρών και φωτογραφικό υλικό από την εκδήλωση. \nΕΕΔΔΣ_Λήμνος 24_Φωτο
URL:https://polsci.duth.gr/event/%cf%83%cf%85%ce%bc%ce%bc%ce%b5%cf%84%ce%bf%cf%87%ce%ae-%cf%86%ce%bf%ce%b9%cf%84%ce%b7%cf%84%cf%8e%ce%bd-%cf%84%cf%81%ce%b9%cf%8e%ce%bd-%cf%84%ce%bf%cf%85-%cf%84%ce%bc%ce%ae%ce%bc%ce%b1%cf%84%ce%bf/
ATTACH;FMTTYPE=image/jpeg:https://polsci.duth.gr/wp-content/uploads/2024/09/0.jpg
END:VEVENT
END:VCALENDAR